Workbook
Name sifra: [1]List2!$A$3:$A$7

Sheet Upute
A1: Upute za popunjavanje programskih i financijskih izvještaja za 2027. godinu
A3: 1. Na radnom listu Opći podaci obavezno upisati sve tražene podatke, a naziv udruge će se automatski preslikati u ostale radne liste. 2. Na radnom listu TNS financijski, SRT financijski, PIS financijski i PLS finacijski popuniti prihvatljive troškove po kojima ste dobili financijska sredstva. 3. Upute za popunjavanje pojedinih radnih listova nalaze se u Uputama za realizaciju programskih i financijskih aktivnosti iz programa javnih potreba u sportu Grada Rijeke za 2027. godinu.

Sheet opći podaci
A1: PROGRAMSKO I FINANCIJSKO IZVJEŠTAVANJE UDRUGA
A3: OSNOVNI PODACI O UDRUZI
A5: NAZIV UDRUGE
A6: POŠTANSKI BROJ | E6: 51000
A7: MJESTO | E7: RIJEKA
A8: ADRESA SJEDIŠTA
A9: RNO BROJ
A10: MATIČNI BROJ
A11: OIB UDRUGE
A12: ŽIRO RAČUN
A13: RAZDOBLJE IZVJEŠTAVANJA | E13: 1.1.2027-31.12.2027.
A16: PODACI O OSOBI OVLAŠTENOJ ZA ZASTUPANJE I KONTAKT
A18: Ime i prezime ovlaštene osobe
A19: Ime i prezime osobe za kontakt
A20: Broj telefona osobe za kontakt
A21: E-mail osobe za kontakt
A24: PODACI O KNJIGOVODSTVENIM USLUGAMA
A26: NAZIV I KONTAKT (TELEFON I E-MAIL)PRAVNOG SUBJEKTA U KOJEM SE OBAVLJAJU KNJIGOVODSTVENI POSLOVI
A29: IME OSOBE ZADUŽENE ZA KNJIGOVODSTVENE POSLOVE
A33: Razdoblje pravdanja (upisati u tablicu): | E33: Pravdati do:
A34: 1.1.2027.-30.06.2027 | E34: do 31.7.2027. polugodišnja izvješća
A35: 1.1.2027-31.12.2027. | E35: do 10.3.2028. godišnja izvješća

Sheet TNS programsko
A1: PROGRAMSKI IZVJEŠTAJ TRENINZI I NATJECANJA
A3: NAZIV UDRUGE | D3: ='opći podaci'!E5 -> 0
B5: stručni rad | G5: natjecateljske aktivnosti udruge na službenim natjecanjima RH | L5: Zdravstveni pregledi u Dvorani mladosti - brojčano | P5: Zdravstveni pregledi u ostalim ambulantama
A6: RB | B6: ime i prezime trenera | C6: dobna kategorija | D6: broj sportaša po kategoriji | E6: sportska stručna sprema | F6: radni status trenera | G6: vrsta natjecanja | H6: dobna kategorija | I6: broj učesnika kluba na natjecanju | J6: mjesto i datum održavanja natjecanja | K6: trošak natjecanja (mora odgovarati ukupnom iznosu natjecanja + članarinama i kotizacijama saveza u godišnjem financijskom izvještaju) | L6: seniori | M6: juniori | N6: kadeti | O6: mlađe dobne kat. | P6: seniori | Q6: juniori | R6: kadeti | S6: mlađe dobne kat.
A7: 1.
A8: 2.
A9: 3.
A10: 4.
A11: 5.
A12: 6.
A13: 7.
A14: 8.
A15: 9.
A16: 10.
A17: 11.
A18: 12.
... A59: 53.

Sheet TNS financijski
B1: LISTA KNJIGOVODSTVENIH ISPRAVA TRENINZI I NATJECANJA
B3: NAZIV UDRUGE | D3: ='opći podaci'!E5 -> 0
B5: UGOVORENI IZNOS IZ UGOVORA ILI ANEKSA UGOVORA TNS ZA 2027.
B7: (1)VRSTA DOKUMENTA | C7: (2) BROJ DOKUMENTA | D7: (3) DOBAVLJAČ/PRUŽATELJ USLUGE/RADNIK | E7: (4) IZNOS | F7: (5) DATUM PLAĆANJA OBVEZE | G7: (6) OPIS (rashodi za usluge prijevoza, smještaja,rashodi za sportsku opremu, kotizacija, članarina, sudačke pristojbe, kancelarijski materijal i sl.) | H7: (7) ŠIFRA/ obavezno ispuniti
B9: TRENINZI I NATJECANJA
B104: UKUPNO | E104: =SUM(E10:E103) -> 0
B105: RAZLIKA | E105: =D5-E104 -> 0

Sheet STR financijski
B1: LISTA KNJIGOVODSTVENIH ISPRAVA STRUČNI RAD
B3: NAZIV UDRUGE | D3: ='opći podaci'!E5 -> 0
B5: UGOVORENI IZNOS IZ UGOVORA ILI ANEKSA UGOVORA STRUČNI RAD 2027. | D5: 0
B7: (1)VRSTA DOKUMENTA | C7: (2) BROJ DOKUMENTA | D7: (3) DOBAVLJAČ/PRUŽATELJ USLUGE/RADNIK | E7: (4) IZNOS | F7: (5) DATUM PLAĆANJA OBVEZE | G7: (6) OPIS (rashodi za Bruto II plaću trenera, prijevoz-mjesečna pokazna karta, usluga treniranja) | H7: (7) ŠIFRA/ obavezno ispuniti
B9: STRUČNI RAD
H10: PLAĆA
B30: UKUPNO | E30: =SUM(E10:E29) -> 0
B31: RAZLIKA | E31: =D5-E30 -> 0

Sheet PLS programsko
A1: PROGRAMSKI IZVJEŠTAJ POTPORA LOPTAČKIM SPORTOVIMA
A3: NAZIV UDRUGE | D3: ='opći podaci'!E5 -> 0
A6: RB | B6: ukupni broj sportaša koji sudjeluje u ligaškom sustavu natjecanja | F6: popis sportaša kojima nositelj isplaćuje potpore/naknade | H6: popis i naziv ligaških natjecanja po dobnim kategorijama
B7: seniori | C7: juniori | D7: kadeti | E7: mlađe dobne kategorije | F7: ime i prezime sportaša | G7: osnova za isplatu potpore | H7: seniori | I7: juniori | J7: kadeti | K7: mlađe dobne kategorije
A8: 1.
A9: 2.
A10: 3.
A11: 4.
A12: 5.
A13: 6.
A14: 7.
A15: 8.
A16: 9.
A17: 10.
A18: 11.
A19: 12.
... A52: 45.

Sheet PLS financijski
B1: LISTA KNJIGOVODSTVENIH ISPRAVA POTPORA LOPTAČKIM SPORTOVIMA
B3: NAZIV UDRUGE | D3: ='opći podaci'!E5 -> 0
B5: UGOVORENI IZNOS IZ UGOVORA ILI ANEKSA UGOVORA POTPORE LOPTAČKIM SPORTOVIMA 2027. | D5: 0
B7: (1)VRSTA DOKUMENTA | C7: (2) BROJ DOKUMENTA | D7: (3) DOBAVLJAČ/PRUŽATELJ USLUGE/RADNIK | E7: (4) IZNOS | F7: (5) DATUM PLAĆANJA OBVEZE | G7: (6) OPIS (rashodi za usluge prijevoza, smještaja,rashodi za sportsku opremu, kotizacija, članarina, sportske stipendije, nagrade i naknade) | H7: (7) ŠIFRA/ obavezno ispuniti
B9: POTPORA LOPTAČKIM SPORTOVIMA
B70: UKUPNO | E70: =SUM(E9:E69) -> 0
B71: RAZLIKA | E71: =D5-E70 -> 0

Sheet PIS programski
A1: PROGRAMSKI IZVJEŠTAJ POTPORI RAZVOJU SPECIFIČNIH INDIVIDUALNIH SPORTOVA
A3: NAZIV UDRUGE | D3: ='opći podaci'!E5 -> 0
A5: RB | B5: Broj aktivnih članova obuhvaćenih programom | F5: popis i naziv natjecanja po dobnim kategorijama
B6: seniori | C6: juniori | D6: kadeti | E6: mlađe dobne kategorije | F6: seniori | G6: juniori | H6: kadeti | I6: mlađe dobne kateogrije

Sheet PIS financijski
B1: LISTA KNJIGOVODSTVENIH ISPRAVA POTPORE RAZVOJU INDIVIDUALNIH SPORTOVA
B3: NAZIV UDRUGE | D3: ='opći podaci'!E5 -> 0
B5: UGOVORENI IZNOS IZ UGOVORA ILI ANEKSA UGOVORA POTPORE RAZVOJU INDIVIDUALNIH SPORTOVA 2027. | D5: 0
B7: (1)VRSTA DOKUMENTA | C7: (2) BROJ DOKUMENTA | D7: (3) DOBAVLJAČ/PRUŽATELJ USLUGE/RADNIK | E7: (4) IZNOS | F7: (5) DATUM PLAĆANJA OBVEZE | G7: (6) OPIS (rashodi za usluge prijevoza, smještaja,rashodi za sportsku opremu, kotizacija, članarina, sportske stipendije, nagrade i naknade) | H7: (7) ŠIFRA/ obavezno ispuniti
B9: POTPORE RAZVOJU INDIVIDUALNIH SPORTOVA
B70: UKUPNO | E70: =SUM(E9:E69) -> 0
B71: RAZLIKA | E71: =D5-E70 -> 0

Sheet Godišnji financijski 
A1: UDRUGA : | B1: ='opći podaci'!E5 -> 0
A3: GODIŠNJI FINANCIJSKI IZVJEŠTAJ PROVEDBE PROGRAMA ZA PERIOD:
A4: 1.1.2027.-31.12.2027.
A5: PRIHODI | B5: IZNOS
A6: Prihod -Treninzi i natjecanje sportaša- RSS (1) | B6: 0
A7: Prihod - Stručni rad trenera - RSS (2) | B7: 0
A8: Prihod - Potpore loptačkim sportovima - RSS (3) | B8: 0
A9: Prihod - Potpore razvoju individualnih sportova - RSS (3a) | B9: 0
A10: Prihod - Perspektivni sportaši i nagrađivanje sportaša - RSS (4) | B10: =C10 -> 0
A11: Prihod - Službena nacionalna natjecanja (5) | B11: =C11 -> 0
A12: Prihod - Međunarodna natjecanja (6) | B12: =C12 -> 0
A13: Prihod - Rashodi sportskih objekata - RSS (7) | B13: =C13 -> 0
A14: Prihod - Članarina (8) | B14: 0
A15: Prihod - Kotizacije za natjecanje (9) | B15: =C15 -> 0
A16: Prihod - Provođenje sportskih aktivnosti djece, mladeži i studenata (10) | B16: =C16 -> 0
A17: Prihod - Sponzorstvo (11) | B17: 0
A18: Prihod - Donacije (12) | B18: =C18 -> 0
A19: Prihod - Donacije za EU projekte (13) | B19: 0
A20: Prihod - Ostali javni izvori financiranja (14) | B20: 0
A21: Prihod - Ostalo (15) | B21: 0
B22: 0
B23: 0
B24: 0
A25: UKUPNO PRIHODI | B25: =SUM(B6:B24) -> 0
A26: RASHODI | B26: IZNOS
A27: Rashod - stručni rad (1) | B27: 0
A28: Rashod - službena natjecanja (2) | B28: 0
A29: Rashod - zdravstveni pregledi sportaša (3) | B29: =C29 -> 0
A30: Rashod - sportske stipendije i naknade sportašima amaterima (4) | B30: 0
A31: Rashod - Rashodi sportskih objekata - RSS (5) | B31: 0
A32: Rashod - neslužbena natjecanja (6) | B32: =C32 -> 0
A33: Rashod - školovanje kadrova, seminari,licence i sl (7) | B33: =C33 -> 0
A34: Rashod - pripreme sportaša (8) | B34: 0
A35: Rashod - sportska oprema (9) | B35: =C35 -> 0
A36: Rashod - osiguranje sportaša (10) | B36: 0
A37: Rashod - službena putovanja (11) | B37: =C37 -> 0
A38: Rashod - članarine i kotizacije savezima (12) | B38: =C38 -> 0
A39: Rashod - administrativni troškovi (13) | B39: =C39 -> 0
A40: Rashod - donacije iz EU projekata (14) | B40: =C40 -> 0
A41: Rashod - ostalo (15) | B41: =C41 -> 0
A42: UKUPNO RASHODI | B42: =SUM(B27:B41) -> 0
A44: REKAPITULACIJA :
A46: UKUPNO PRIHODI : | B46: =B25 -> 0
A47: UKUPNO RASHODI: | B47: =B42 -> 0
A48: RAZLIKA: | B48: =B46-B47 -> 0
A60: (1) upisati ukupan iznos doznačenih sredstava po osnovi Ugovora RSS za treninge i natjecanja - proračunska sredstva
A61: (2) upisati ukupan iznos doznačenih sredstava po osnovi Ugovora RSS za stručni rad - proračunska sredstva
A62: (3) upisati ukupan iznos doznačenih sredstava po osnovi Ugovora RSS za potpore loptačkim sportovima - proračunska sredstva
A63: (3a) upisati ukupan iznos doznačenih sredstava po osnovi Ugovora RSS za potpore razvoju individualnih sportova - proračunska sredstva
A64: (4) upisati prihod po osnovi doznake za perspektivne sportaše i nagrađivanje sportaša - proračunska sredstva
A65: (5) upisati iznos dobiven po osnovi nastupa na nacionalnim natjecanjima od županijskih, nacionalnih saveza, lokalne samouprave ili državnog proračuna
A66: (6) upisati iznos dobiven za sudjelovanje na međunarodnim natjecanjima od županijskih, nacionalnih saveza, lokalne samouprave ili državnog proračuna
A67: (7) upisati ukupan iznos doznačenih sredstava po osnovi Ugovora RSS za rashode sportskih objekata - proračunska sredstva
A68: (8) upisati prihod od članarine
A69: (9) upisati prihod po osnovi kotizacija za natjecanje u organizaciji udruge
A70: (10) upisati iznos dobiven po osnovi organizacije školskih natjecanja - projekt Rijeka pliva i organizacija i provedba školskih sportskih aktivnosti i visokoučilišnih sportskih aktivnosti
A71: (11) upisati iznos dobiven po osnovi sponzorstava
... A93: (15) upisati sve ostale troškove koji nisu posebno označeni od 1-15

Sheet Pregled
A1: JAVNE POTREBE U SPORTU GRADA RIJEKE ZA 2027.GODINU
A2: AKTIVNOST TRENINZI I NATJECANJA
A3: PRAVDANJE TROŠKOVA 2027 - REKAPITULACIJA
A8: OSNOVNI PODACI O UDRUZI
A10: NAZIV UDRUGE | B10: ='opći podaci'!E5 -> 0
A11: POŠTANSKI BROJ | B11: 51000
A12: MJESTO | B12: RIJEKA
A13: ADRESA SJEDIŠTA | B13: ='opći podaci'!E8 -> 0
A14: RNO BROJ | B14: ='opći podaci'!E9 -> 0
A15: MATIČNI BROJ | B15: ='opći podaci'!E10 -> 0
A16: OIB UDRUGE | B16: ='opći podaci'!E11 -> 0
A17: ŽIRO RAČUN | B17: ='opći podaci'!E12 -> 0
A18: RAZDOBLJE IZVJEŠTAVANJA | B18: ='opći podaci'!E13 -> 1.1.2027-31.12.2027.
A23: PODACI O OSOBI OVLAŠTENOJ ZA ZASTUPANJE I KONTAKT
A25: Ime i prezime ovlaštene osobe | B25: ='opći podaci'!E18 -> 0
A26: Ime i prezime osobe za kontakt | B26: ='opći podaci'!E19 -> 0
A27: Broj telefona osobe za kontakt | B27: ='opći podaci'!E20 -> 0
A28: E-mail osobe za kontakt | B28: ='opći podaci'!E21 -> 0
A33: REKAPITULACIJA OPRAVDANIH TROŠKOVA
A35: Treninzi i natjecanja | B35: ='TNS financijski'!E104 -> 0
A36: Stručni rad | B36: ='STR financijski'!E30 -> 0
A37: Potpore loptačkim sportovima | B37: ='PLS financijski'!E70 -> 0
A38: Potpore razvoju individualnih sportova | B38: ='PIS financijski'!E70 -> 0
A39: Ukupno | B39: =B35+B36+B37+B38 -> 0
B42: Potpis zakonskog zastupnika
B45: M.P.
A48: Datum:

Sheet Šifre-TNS programski
A1: SPORTSKA STRUČNA SPREMA
A2: Šifra | B2: Puni naziv | C2: Napomena
A3: dr.sc. kineziologije | B3: Doktor kineziologije | C3: završeni doktorski studij kineziologije (poslijediplomski sveučilišni studij), stečen akademski stupanj doktora znanosti u području kineziologije - Trener V. kategorije
A4: univ.mag.cin | B4: sveučilišni magistar kineziologije odgovarajućeg sporta | C4: Kineziološki fakultet - Trener V. kategorije (prof. fizičke kulture u odgovarajućem sportu)
A5: univ.bacc.cin | B5: Sveučilišni ili stručni prvostupnik | C5: Kineziološki fakultet - Trener IV. Kategorije
A6: T | B6: Trener prvostupnik | C6: viši sportski trener (npr. HOA, sportsko učilište) / UEFA "PRO" diploma na HNS-u, trener III. kategorije
A7: L | B7: licenca | C7: osoba osposobeljna u ustanovama koje provode programe sukladno propisima kojima se uređuje obrazovanje odraslih /i/ili UEFA "A" ili UEFA "B" diploma na HNS-u, trener I.,II. ili III. Kategorije
A8: C | B8: UEFA "C" na HNS-u | C8: trener I.,II. ili III. Kategorije
A9: O | B9: obrazovanje u tijeku
A11: RADNI STATUS TRENERA
A12: Šifra | B12: ugovori
A13: ZAPOSLENIK | B13: Ugovor o radu - puno i nepuno radno vrijeme
A14: HONORARAC | B14: Ugovor o djelu / ugovor o radu, nepuno radno vrijeme
A15: STUDENT | B15: Studentski ugovor
A16: VOLONTER | B16: Ugovor o volontiranju
A17: OBRT | B17: Ugovor o poslovnoj suradnji ili pružanju sportskih usluga
A18: SAMOSTALNA SPORTSKA DJELATNOST | B18: Ugovor o poslovnoj suradnji ili pružanju sportskih usluga

Sheet Šifre-TNS,SR,PLS financijski
A1: STR Financijski
A2: Šifra | B2: Puni naziv | C2: Prihvatljivi troškovi
A3: PLAĆA | B3: plaće i doprinosi | C3: Neto plaća, porezi i doprinosi
A4: NAKNADA ZAPOSLENIMA | B4: naknade radnicima | C4: Prijevoz - trošak za dolazak i odlazak na posao u visini pokazne mjesečne karte
A5: SSD | B5: samostalna sportska djelatnost- osnovna djelatnost | C5: Trošak pružanja usluge treniranja
A6: OBRT | B6: obrt za pružanje usluge treniranja - osnovna djelatnost | C6: Trošak pružanja usluge treniranja
A7: TNS I PLS Financijski
A8: Šifra | B8: Puni naziv | C8: Prihvatljivi troškovi | D8: Prihvatljivi troškovi za aktivnost
A9: STRUČNI RAD | B9: STRUČNI RAD | C9: Ugovor o radu - Bruto II plaća trenera Naknada zaposlenim trenerima - prijevoz s posla na posao u visini mjesečne pokazne karte i ostale neoporezive naknade zaposlenima (nagrađivanje radnika, regres, božićnica, naknada za prehranu i stanovanje..) Obrt - račun za uslugu trenirana SSD - račun za uslugu treniranja Ugovor o djelu - naknada za uslugu treniranja Studetski centar - račun za uslugu treniranja | D9: TNS,PLS I PRSIS
A10: NATJECANJE | B10: NATJECANJE | C10: Računi za gorivo, cestarine,najam vozila, autoprijevoznika, prehrane, smještaja. Računi za kotizacije, startnine, licence i članarine savezima. Troškovi sudaca, osiguranja, organizacije utakmica, nabavke medalja i pehara, i sl. Putni troškovi odlaska na natjecanje (troškovi po putnom nalogu - dnevnice, korištenje osobnog automobila u službene svrhe i sl.) | D10: TNS,PLS I PRSIS
A11: ZP | B11: ZDRAVSTVENI PREGLEDI | C11: Ugovori ili računi s pravnim subjektima koji mogu vršiti zdravstvene preglede | D11: TNS,PLS I PRSIS
A12: OPREMA | B12: SPORTSKA OPREMA | C12: Računi za nabavku sportske opreme nužne za provedbu programa (sportski rekviziti, oprema za sportaše, sportska oprema knjižena kao dugotrajna imovina čija je pojdinačna nabavna vrijednost iznad 464,53 eura kao npr. ergometri, čamci, golovi i sl. | D12: TNS,PLS I PRSIS
A13: PRIPREME | B13: TROŠAK PRIPREMA | C13: Računi za troškove prijevoza, smještaja, prehrane, najma vozila, najma sportskog objekata. Putni troškovi odlaska na pripreme (troškovi po putnom nalogu - dnevnice, korištenje osobnog automobila u službene svrhe i sl.) | D13: TNS,PLS I PRSIS
A14: OSTALO | B14: OSTALI TROŠKOVI | C14: Ostali troškovi koji su izravno vezani za provedbu programa (troškovi temeljem ugovora o radu i ugovora o djelu te studentskih ugovora za administrativne poslove, trošak telefona, putni troškovi odlaska na sjednice nacionalnih saveza, i sl.), trošak fizikalne terapije i rehabilitacije sportaša | D14: TNS,PLS I PRSIS
A15: SPORTSKE NAKNADE | B15: NAKNADE SPORTAŠIMA | C15: Trošak sportskih stipendija i naknada sportašima amaterima | D15: PLS
